BEGIN:VCALENDAR
VERSION:2.0
PRODID:-//eventon.com NONSGML v1.0//EN
CALSCALE:GREGORIAN
METHOD:PUBLISH
BEGIN:VEVENT
UID:69e998a330e82
DTSTAMP:20260423T035723Z
DTSTART:20260507T010000Z
DTEND:20260507T065000Z
LOCATION:
SUMMARY:Member to Member Phone Bank
DESCRIPTION:Member to Member Phone Bank\nhttps://home.nuhw.org/events/membe
 r-to-member-phone-bank-2/
URL:https://home.nuhw.org/events/member-to-member-phone-bank-2/
END:VEVENT
END:VCALENDAR