BEGIN:VCALENDAR
VERSION:2.0
PRODID:-//eventon.com NONSGML v1.0//EN
CALSCALE:GREGORIAN
METHOD:PUBLISH
BEGIN:VEVENT
UID:69e998bc730c5
DTSTAMP:20260423T035748Z
DTSTART:20260602
DTEND:20260603
LOCATION:
SUMMARY:Primary Day Canvassing
DESCRIPTION:Primary Day Canvassing\nhttps://home.nuhw.org/events/primary-da
 y-canvassing/
URL:https://home.nuhw.org/events/primary-day-canvassing/
END:VEVENT
END:VCALENDAR